BEGIN:VCALENDAR
VERSION:2.0
PRODID:-//Fairmas - ECPv6.15.20//NONSGML v1.0//EN
CALSCALE:GREGORIAN
METHOD:PUBLISH
X-ORIGINAL-URL:https://fairmas.com
X-WR-CALDESC:Events for Fairmas
REFRESH-INTERVAL;VALUE=DURATION:PT1H
X-Robots-Tag:noindex
X-PUBLISHED-TTL:PT1H
BEGIN:VTIMEZONE
TZID:Europe/Helsinki
BEGIN:DAYLIGHT
TZOFFSETFROM:+0200
TZOFFSETTO:+0300
TZNAME:EEST
DTSTART:20250330T010000
END:DAYLIGHT
BEGIN:STANDARD
TZOFFSETFROM:+0300
TZOFFSETTO:+0200
TZNAME:EET
DTSTART:20251026T010000
END:STANDARD
BEGIN:DAYLIGHT
TZOFFSETFROM:+0200
TZOFFSETTO:+0300
TZNAME:EEST
DTSTART:20260329T010000
END:DAYLIGHT
BEGIN:STANDARD
TZOFFSETFROM:+0300
TZOFFSETTO:+0200
TZNAME:EET
DTSTART:20261025T010000
END:STANDARD
BEGIN:DAYLIGHT
TZOFFSETFROM:+0200
TZOFFSETTO:+0300
TZNAME:EEST
DTSTART:20270328T010000
END:DAYLIGHT
BEGIN:STANDARD
TZOFFSETFROM:+0300
TZOFFSETTO:+0200
TZNAME:EET
DTSTART:20271031T010000
END:STANDARD
END:VTIMEZONE
BEGIN:VTIMEZONE
TZID:America/Halifax
BEGIN:DAYLIGHT
TZOFFSETFROM:-0400
TZOFFSETTO:-0300
TZNAME:ADT
DTSTART:20250309T060000
END:DAYLIGHT
BEGIN:STANDARD
TZOFFSETFROM:-0300
TZOFFSETTO:-0400
TZNAME:AST
DTSTART:20251102T050000
END:STANDARD
BEGIN:DAYLIGHT
TZOFFSETFROM:-0400
TZOFFSETTO:-0300
TZNAME:ADT
DTSTART:20260308T060000
END:DAYLIGHT
BEGIN:STANDARD
TZOFFSETFROM:-0300
TZOFFSETTO:-0400
TZNAME:AST
DTSTART:20261101T050000
END:STANDARD
BEGIN:DAYLIGHT
TZOFFSETFROM:-0400
TZOFFSETTO:-0300
TZNAME:ADT
DTSTART:20270314T060000
END:DAYLIGHT
BEGIN:STANDARD
TZOFFSETFROM:-0300
TZOFFSETTO:-0400
TZNAME:AST
DTSTART:20271107T050000
END:STANDARD
END:VTIMEZONE
BEGIN:VEVENT
DTSTART;VALUE=DATE:20260603
DTEND;VALUE=DATE:20260605
DTSTAMP:20260425T030819
CREATED:20260424T133718Z
LAST-MODIFIED:20260424T133800Z
UID:26857-1780444800-1780617599@fairmas.com
SUMMARY:Hospitality Summit - HotellerieSuisse
DESCRIPTION:Fairmas joins the upcoming Hospitality Summit organized by HotellerieSuisse. The event is the meeting place for over 1\,500 managers\, hosts\, experts and partners where attendees will experience two days of network expanding and knowledge sharpening to take away concrete ideas for business owners. \n​When: June 3-4\, 2026Where: Festhalle Bern\, Switzerland \nWhy meet Fairmas? \n\nLearn how a hotel-specific financial planning and intelligent data analysis software can strengthening hotel performance and profitability\nStreamline your financial workflows and improve accuracy\n\nWill you also be attending? Book your meeting with Sophie Wuttke today.
URL:https://fairmas.com/events/hospitality-summit-hotellerie-suisse/
LOCATION:Festhalle Bern\, Papiermühlestrasse 50\, Bern\, 3014\, Switzerland
CATEGORIES:Hospitality, Travel & Tourism,Hotel Technology
ATTACH;FMTTYPE=image/png:https://fairmas.com/wp-content/uploads/2026/04/Hospitality-Summit-HotellerieSuisse-event-banner.png
END:VEVENT
BEGIN:VEVENT
DTSTART;TZID=America/Halifax:20260616T100000
DTEND;TZID=America/Halifax:20260618T140000
DTSTAMP:20260425T030819
CREATED:20260424T112600Z
LAST-MODIFIED:20260424T112600Z
UID:26851-1781604000-1781791200@fairmas.com
SUMMARY:HITEC San Antonio
DESCRIPTION:Fairmas is exhibiting once again at this year’s HITEC San Antonio —the world’s largest hospitality technology event. \nJoin us in San Antonio\, Texas this June to see how our financial planning and reporting software live in action. We in Fairmas aim to help hotels around the globe drive smarter\, more profitable decisions. \nWhen: June 15–18\, 2026\nWhere: Henry B. González Convention Center\, San Antonio\, Texas\, USA \nWhy Visit Fairmas? \n\nExperience live demos of our hotel budgeting & forecasting solutions\nLearn how to streamline your financial workflows and improve accuracy\n\nLet’s talk hotel finance! Book a meeting with our team and explore how Fairmas can empower your financial strategy. \nMeet the Fairmas team at Booth 2848 and get a first-hand experience of our 360-degree hotel financial planning & analysis solution.
URL:https://fairmas.com/events/hitec-2026-san-antonio/
LOCATION:Henry B. Gonzalez Convention Center\, 900 E. Market Street\, San Antonio\, TX\, 78205\, United States
CATEGORIES:Hotel Technology
ATTACH;FMTTYPE=image/png:https://fairmas.com/wp-content/uploads/2026/04/HITEC-2026-event-banner.png
END:VEVENT
END:VCALENDAR