BEGIN:VCALENDAR
VERSION:2.0
PRODID:-//Fairmas - ECPv6.15.20//NONSGML v1.0//EN
CALSCALE:GREGORIAN
METHOD:PUBLISH
X-ORIGINAL-URL:https://fairmas.com
X-WR-CALDESC:Events for Fairmas
REFRESH-INTERVAL;VALUE=DURATION:PT1H
X-Robots-Tag:noindex
X-PUBLISHED-TTL:PT1H
BEGIN:VTIMEZONE
TZID:Europe/Helsinki
BEGIN:DAYLIGHT
TZOFFSETFROM:+0200
TZOFFSETTO:+0300
TZNAME:EEST
DTSTART:20250330T010000
END:DAYLIGHT
BEGIN:STANDARD
TZOFFSETFROM:+0300
TZOFFSETTO:+0200
TZNAME:EET
DTSTART:20251026T010000
END:STANDARD
BEGIN:DAYLIGHT
TZOFFSETFROM:+0200
TZOFFSETTO:+0300
TZNAME:EEST
DTSTART:20260329T010000
END:DAYLIGHT
BEGIN:STANDARD
TZOFFSETFROM:+0300
TZOFFSETTO:+0200
TZNAME:EET
DTSTART:20261025T010000
END:STANDARD
BEGIN:DAYLIGHT
TZOFFSETFROM:+0200
TZOFFSETTO:+0300
TZNAME:EEST
DTSTART:20270328T010000
END:DAYLIGHT
BEGIN:STANDARD
TZOFFSETFROM:+0300
TZOFFSETTO:+0200
TZNAME:EET
DTSTART:20271031T010000
END:STANDARD
END:VTIMEZONE
BEGIN:VTIMEZONE
TZID:America/Los_Angeles
BEGIN:DAYLIGHT
TZOFFSETFROM:-0800
TZOFFSETTO:-0700
TZNAME:PDT
DTSTART:20250309T100000
END:DAYLIGHT
BEGIN:STANDARD
TZOFFSETFROM:-0700
TZOFFSETTO:-0800
TZNAME:PST
DTSTART:20251102T090000
END:STANDARD
BEGIN:DAYLIGHT
TZOFFSETFROM:-0800
TZOFFSETTO:-0700
TZNAME:PDT
DTSTART:20260308T100000
END:DAYLIGHT
BEGIN:STANDARD
TZOFFSETFROM:-0700
TZOFFSETTO:-0800
TZNAME:PST
DTSTART:20261101T090000
END:STANDARD
BEGIN:DAYLIGHT
TZOFFSETFROM:-0800
TZOFFSETTO:-0700
TZNAME:PDT
DTSTART:20270314T100000
END:DAYLIGHT
BEGIN:STANDARD
TZOFFSETFROM:-0700
TZOFFSETTO:-0800
TZNAME:PST
DTSTART:20271107T090000
END:STANDARD
END:VTIMEZONE
BEGIN:VEVENT
DTSTART;TZID=Europe/Helsinki:20260408T080000
DTEND;TZID=Europe/Helsinki:20260410T170000
DTSTAMP:20260422T093220
CREATED:20260219T151357Z
LAST-MODIFIED:20260220T103411Z
UID:26063-1775635200-1775840400@fairmas.com
SUMMARY:AAHOACON - AAHOA Annual Convention & Trade Show
DESCRIPTION:Fairmas is excited to be an exhibitor at AAHOACON26 – the AAHOA Annual Convention & Trade Show\, the largest gathering of hotel owners and industry leaders in the United States. This three-day event features high-impact education sessions\, an expansive trade show\,\nnetworking opportunities\, and strategic insights aimed at enhancing profitability\, leadership\, and long-term value for hotel owners. \nAs a company focused on hotel financial planning and reporting software\, Fairmas supports owners and operators with budgeting\, forecasting\, and financial transparency that align with operational goals and investment strategy. \nWhen: April 8–10\, 2026Where: Pennsylvania Convention Center\, Philadelphia\, Pennsylvania\, USA \nConnect with Fairmas at Booth 336 to explore how structured financial planning can support your hotel operations and profitability objectives. Book your meeting with Eric Healy and Tahil Mascarenhas from our Fairmas North America team today.
URL:https://fairmas.com/events/aahoacon/
LOCATION:Pennsylvania Convention Center\, Philadelphia\, PA\, United States
CATEGORIES:Hospitality, Travel & Tourism,Hotel Technology
ATTACH;FMTTYPE=image/png:https://fairmas.com/wp-content/uploads/2026/02/AAHOACON-event-banner.png
END:VEVENT
BEGIN:VEVENT
DTSTART;TZID=America/Los_Angeles:20260414T090000
DTEND;TZID=America/Los_Angeles:20260415T160000
DTSTAMP:20260422T093220
CREATED:20260220T114401Z
LAST-MODIFIED:20260220T122141Z
UID:26072-1776157200-1776268800@fairmas.com
SUMMARY:BCHA Summit & Marketplace
DESCRIPTION:Fairmas will be exhibiting at the British Columbia Hotel Association (BCHA) Summit & Marketplace 2026\, a leading regional hospitality event uniting hoteliers\, operators\, and industry partners across British Columbia. The Summit features educational sessions\, a vibrant Marketplace vendor exhibition\, and industry awards celebrating excellence in the sector. \nFairmas provides hotel-specific financial planning and reporting tools that help hoteliers align financial strategy with operational performance\, improve budget accuracy\, and support growth. \nWhen: April 14–15\, 2026Where: Vancouver Island Conference Centre\, Nanaimo\, British Columbia\, Canada \nBook your meeting with Eric Healy of our Fairmas North America team at the Fairmas booth\, to explore how structured financial planning supports performance\, profitability\, and strategic decision-making.
URL:https://fairmas.com/events/bcha-summit-marketplace/
LOCATION:Vancouver Island Conference Centre\, Nanaimo\, British Columbia\, Canada
CATEGORIES:Hospitality, Travel & Tourism,Hotel Technology
ATTACH;FMTTYPE=image/png:https://fairmas.com/wp-content/uploads/2026/02/BCHA-Summit-event-banner.png
END:VEVENT
END:VCALENDAR